BEGIN:VCALENDAR
VERSION:2.0
PRODID:-//ACHPER NSW - ECPv5.0.2.1//NONSGML v1.0//EN
CALSCALE:GREGORIAN
METHOD:PUBLISH
X-WR-CALNAME:ACHPER NSW
X-ORIGINAL-URL:https://www.achpernsw.com.au
X-WR-CALDESC:Events for ACHPER NSW
BEGIN:VTIMEZONE
TZID:UTC
BEGIN:STANDARD
TZOFFSETFROM:+0000
TZOFFSETTO:+0000
TZNAME:UTC
DTSTART:20190101T000000
END:STANDARD
END:VTIMEZONE
BEGIN:VEVENT
DTSTART;TZID=UTC:20191211T080000
DTEND;TZID=UTC:20191211T153000
DTSTAMP:20200301T165517
CREATED:20191105T005812Z
LAST-MODIFIED:20191105T235848Z
UID:15922-1576051200-1576078200@www.achpernsw.com.au
SUMMARY:Physical Activity and Sport Studies (PASS) - South Coast
DESCRIPTION:Venue: Vincentia High School \nA one-day professional learning workshop to examine the elements involved in teaching PASS including programming\, creating assessment tasks and practical experience options in line with the new syllabus. \nAs a result of participating in this workshop\, participants will be: \n\nAble to deconstruct the new PASS syllabus\nConfident in creating assessment tasks for the PASS course\nAble to program and structure PASS scope and sequence\nDelegates will develop programs\, assessment tasks and resources for all 16 modules of the PASS syllabus\n\n \n  \nCompleting the PASS workshop on 11 December 2019 will contribute 5 hours of NSW Education Standards Authority (NESA) Registered PD addressing standard descriptors from the Australian Professional Standards for Teachers towards maintaining Proficient Teacher Accreditation in NSW. \nAustralian Professional Teaching Standards: 2.3.2\, 6.2.2\, 6.3.2\, 7.4.2. \n
URL:https://www.achpernsw.com.au/event/physical-activity-and-sport-studies-pass-south-coast/
LOCATION:Vincentia High School\, 142 The Wool Road\, Vincentia\, NSW\, 2540\, Australia
CATEGORIES:7-10 PDHPE
ORGANIZER;CN="ACHPER%20NSW":MAILTO:admin@achper.com.au
END:VEVENT
END:VCALENDAR