BEGIN:VCALENDAR
VERSION:2.0
PRODID:-//ACHPER NSW - ECPv5.0.2.1//NONSGML v1.0//EN
CALSCALE:GREGORIAN
METHOD:PUBLISH
X-WR-CALNAME:ACHPER NSW
X-ORIGINAL-URL:https://www.achpernsw.com.au
X-WR-CALDESC:Events for ACHPER NSW
BEGIN:VTIMEZONE
TZID:UTC
BEGIN:STANDARD
TZOFFSETFROM:+0000
TZOFFSETTO:+0000
TZNAME:UTC
DTSTART:20200101T000000
END:STANDARD
END:VTIMEZONE
BEGIN:VEVENT
DTSTART;TZID=UTC:20200213T083000
DTEND;TZID=UTC:20200213T153000
DTSTAMP:20200301T165429
CREATED:20191016T060657Z
LAST-MODIFIED:20200203T230231Z
UID:15624-1581582600-1581607800@www.achpernsw.com.au
SUMMARY:Teaching Stage 6 PDHPE for the 1st Time
DESCRIPTION:Venue: Sydney CBD \nThis workshop will meet the needs of any teacher who are yet to teach the Stage 6 course. This workshop will unpack the syllabus\, address teacher concerns around programming\, resources and assessment. You will walk away with information and skills to be able to design and deliver the Stage 6 PDHPE course. \nThe Workshop Program:\nW h e r e  t o  b e g i n \nU n p a c k i n g  t h e  S y l l a b u s \nA s s e s s m e n t \nM a r k i n g \nRe s o u r c i n g \nS e t t i n g  y o u r s t u d e n t s  u p  f o r  s u c c e s s \n  \nWho should attend: designed for teachers who: \n\nCurrently teaching Stage 6 PDHPE for the first time\nTeaching Stage 6 PDHPE in 2018/19 for the first time\nHope to teach Stage 6 PDHPE in the near future for the first time\n\nProfessional Teaching Standards \n1.5.2 Develop teaching activities that incorporate differentiated strategies to meet the specific learning needs of students across the full range of abilities.\n2.2.2 Organise content into coherent\, well-sequenced learning and teaching programs.\n2.3.2 Design and implement learning and teaching programs using knowledge of curriculum\, assessment and reporting requirements.\n3.2.2 Plan and implement well-structured learning and teaching programs or lesson sequences that engage students and promote learning \n \n  \nCompleting Teaching Stage 6 PDHPE for the 1st Time on Thursday 13th February 2020 will contribute 5 hours of NSW Education Standards Authority (NESA) Registered PD addressing standard descriptors from the Australian Professional Standards for Teachers towards maintaining Proficient Teacher Accreditation in NSW. \n\n
URL:https://www.achpernsw.com.au/event/teaching-stage-6-pdhpe-for-the-1st-time-6/
LOCATION:Teachers Federation House\, 23-33 Mary St \, Surry Hills\, NSW\, Australia
CATEGORIES:Stage 6 PDHPE
ORGANIZER;CN="ACHPER%20NSW":MAILTO:admin@achper.com.au
END:VEVENT
END:VCALENDAR